BEGIN:VCALENDAR
VERSION:2.0
PRODID:https://github.com/derhansen/sf_event_mgt
METHOD:PUBLISH
BEGIN:VEVENT
UID:1632-536@www.psi.pl
CLASS: PUBLIC
SUMMARY:XII Konferencja Przyłączanie i współpraca OZE oraz magazynów energi
 i z systemem elektroenergetycznym
DESCRIPTION:Polskie Towarzystwo Przesyłu i Rozdziału Energii Elektrycznej z
 aprasza na XII konferencję (6–7 maja 2026, Warszawa) o rozwoju OZE i magazy
 nów energii oraz ich przyłączaniu i wpływie na system elektroenergetyczny.
LOCATION:Hotel Mercure Warszawa Centrum
DTSTAMP:20260415T103655Z
DTSTART:20260506T071000Z
DTEND:20260507T141000Z
END:VEVENT
END:VCALENDAR
