BEGIN:VCALENDAR
VERSION:2.0
PRODID:https://github.com/derhansen/sf_event_mgt
METHOD:PUBLISH
BEGIN:VEVENT
UID:1633-536@www.psi.pl
CLASS: PUBLIC
SUMMARY:ENERGIA DZIŚ i JUTRO: VI OGÓLNOPOLSKA KONFERENCJA NAUKOWO-TECHNICZN
 A
DESCRIPTION:Podczas konferencji uczestnicy poznają najważniejsze trendy i w
 yzwania rynku energii: od integracji OZE i magazynów energii, przez rozwój 
 sieci i regulacje, po praktyczne aspekty inwestycji, elastyczności systemu 
 i bezpieczeństwa energetycznego.
DTSTAMP:20260415T104756Z
DTSTART:20260514T071000Z
DTEND:20260514T141000Z
END:VEVENT
END:VCALENDAR
