BEGIN:VCALENDAR
VERSION:2.0
PRODID:https://github.com/derhansen/sf_event_mgt
METHOD:PUBLISH
BEGIN:VEVENT
UID:206-536@www.psi.pl
CLASS: PUBLIC
SUMMARY:Cigré 2026
DESCRIPTION:Wiodące na świecie branżowe wydarzenie dla dostawców energii, o
 ferujące bogaty program wykładów i gromadzące około 6 600 profesjonalnych u
 czestników.
LOCATION:Palais des Congrès
DTSTAMP:20260107T115007Z
DTSTART:20260823T060000Z
DTEND:20260828T165900Z
END:VEVENT
END:VCALENDAR
